BEGIN:VCALENDAR
VERSION:2.0
PRODID:-//The 415 Amateur Radio Club - ECPv6.15.20//NONSGML v1.0//EN
CALSCALE:GREGORIAN
METHOD:PUBLISH
X-ORIGINAL-URL:https://the415arc.com
X-WR-CALDESC:Events for The 415 Amateur Radio Club
REFRESH-INTERVAL;VALUE=DURATION:PT1H
X-Robots-Tag:noindex
X-PUBLISHED-TTL:PT1H
BEGIN:VTIMEZONE
TZID:America/Chicago
BEGIN:DAYLIGHT
TZOFFSETFROM:-0600
TZOFFSETTO:-0500
TZNAME:CDT
DTSTART:20240310T080000
END:DAYLIGHT
BEGIN:STANDARD
TZOFFSETFROM:-0500
TZOFFSETTO:-0600
TZNAME:CST
DTSTART:20241103T070000
END:STANDARD
BEGIN:DAYLIGHT
TZOFFSETFROM:-0600
TZOFFSETTO:-0500
TZNAME:CDT
DTSTART:20250309T080000
END:DAYLIGHT
BEGIN:STANDARD
TZOFFSETFROM:-0500
TZOFFSETTO:-0600
TZNAME:CST
DTSTART:20251102T070000
END:STANDARD
BEGIN:DAYLIGHT
TZOFFSETFROM:-0600
TZOFFSETTO:-0500
TZNAME:CDT
DTSTART:20260308T080000
END:DAYLIGHT
BEGIN:STANDARD
TZOFFSETFROM:-0500
TZOFFSETTO:-0600
TZNAME:CST
DTSTART:20261101T070000
END:STANDARD
BEGIN:DAYLIGHT
TZOFFSETFROM:-0600
TZOFFSETTO:-0500
TZNAME:CDT
DTSTART:20270314T080000
END:DAYLIGHT
BEGIN:STANDARD
TZOFFSETFROM:-0500
TZOFFSETTO:-0600
TZNAME:CST
DTSTART:20271107T070000
END:STANDARD
END:VTIMEZONE
BEGIN:VEVENT
DTSTART;TZID=America/Chicago:20260307T080000
DTEND;TZID=America/Chicago:20260307T170000
DTSTAMP:20260423T113406
CREATED:20260122T180701Z
LAST-MODIFIED:20260122T180757Z
UID:3747-1772870400-1772902800@the415arc.com
SUMMARY:March HAM Breakfast
DESCRIPTION:Please RSVP to nt9e@arrl.net so Dave can give Buddyz an accurate count.
URL:https://the415arc.com/events/march-ham-breakfast/
LOCATION:Buddyz – McHenry\, 1138 N Green St\, McHenry\, IL\, 60050\, United States
ATTACH;FMTTYPE=image/jpeg:https://the415arc.com/wp-content/uploads/2024/11/202302-FEB-2023.jpg
ORGANIZER;CN="Dave Whaley - NT9E":MAILTO:NT9E@arrl.net
END:VEVENT
BEGIN:VEVENT
DTSTART;TZID=America/Chicago:20260207T080000
DTEND;TZID=America/Chicago:20260207T100000
DTSTAMP:20260423T113406
CREATED:20260122T180457Z
LAST-MODIFIED:20260122T180544Z
UID:3745-1770451200-1770458400@the415arc.com
SUMMARY:February HAM Breakfast
DESCRIPTION:Please RSVP to nt9e@arrl.net so Dave can give Buddyz an accurate count.
URL:https://the415arc.com/events/february-ham-breakfast/
LOCATION:Buddyz – McHenry\, 1138 N Green St\, McHenry\, IL\, 60050\, United States
ATTACH;FMTTYPE=image/jpeg:https://the415arc.com/wp-content/uploads/2024/11/202302-FEB-2023.jpg
ORGANIZER;CN="Dave Whaley - NT9E":MAILTO:NT9E@arrl.net
END:VEVENT
BEGIN:VEVENT
DTSTART;TZID=America/Chicago:20260124T090000
DTEND;TZID=America/Chicago:20260125T150000
DTSTAMP:20260423T113406
CREATED:20240724T172032Z
LAST-MODIFIED:20260115T202324Z
UID:74-1769245200-1769353200@the415arc.com
SUMMARY:WFDA Winter Field Day
DESCRIPTION:Winter Field Day is an exciting annual event for amateur radio enthusiasts\, taking place on the last full weekend of January. The event is organized by the Winter Field Day Association passionately believe that Ham radio operators should practice portable emergency communications in winter environments as the potential for freezing temperatures\, snow\, ice\, and other hazards present unique operational concerns. WFD is formatted to help increase your level of preparedness for disasters and improve your operational skills in subpar conditions.  The 415 Amateur Radio Club will be participating in the event this year with two heated stations operating during the entire contest period. \n\n\n\nWe hope you’ll join us!!!\n\n\n\nThis event is open to everyone (with or without an amateur radio license). Get on the air on our voice\, digital\, or CW stations\, help set up antennas\, learn HAM radio skills\, or just join us for a meal and to talk radio.  Meals are pot-luck so please bring something to share. \n\n\n\nCheck out pictures from Winter Field Day last year  \n\n\n\nObjective:\n\n\n\n   WFD is a multi-objective event. The primary objective is to set up an amateur radio field station and successfully make multiple contacts. Successful participants are those who can set up their equipment and correctly log the designated exchange during the operational period explained below. All participants are encouraged to complete as many additional objectives as possible. After the event\, submit a log of stations worked and any additional documentation. \n\n\n\nSetup:\n\n\n\nStations may begin setting up no earlier than 1600 UTC (10 am CST) on the Friday before. However\, cumulative set-up time shall not exceed 12 hours.  \n\n\n\nOperation:\n\n\n\n    30-hour operational period starts at 1600 UTC on Saturday (10 am CST)\, the 25th\, and ends at 21:59 UTC on Sunday\, the 26th (4:59 pm EST).  \n\n\n\n\nHEATED Voice Station\n\n\n\nHEATED Digital & CW Station\n\n\n\nSatellite station\n\n\n\nPot-Luck meals — Please bring food and/or drinks to share\n\n\n\n\nRules \n\n\n\nWinter Field Day Site Map \n\n\n\nTalk-In Frequency:   146.415 MHz Simplex  \n\n\n\nSign Up\n\n\n\nTime Slots can be reserved until January 19\, 2026 11:59pm \n\n\n\nPlease use the buttons below to sign up. \n\n\n\n\nPhone Operation Sign-Up\n\n\n\nDigital & CW Operation Sign-Up\n\n\n\nSee Current Operation Sign-ups\n\n\n\nFood Sign-Up
URL:https://the415arc.com/events/winter-field-day/
LOCATION:Bay Road Farm\, 3208 Bay Road\, Crystal Lake\, IL\, 60012\, United States
CATEGORIES:Field Day
ATTACH;FMTTYPE=image/jpeg:https://the415arc.com/wp-content/uploads/2024/07/20240127_112425.jpg
ORGANIZER;CN="The 415 ARC":MAILTO:n9wh@arrl.net
END:VEVENT
BEGIN:VEVENT
DTSTART;TZID=America/Chicago:20251206T070000
DTEND;TZID=America/Chicago:20251206T090000
DTSTAMP:20260423T113406
CREATED:20240802T141858Z
LAST-MODIFIED:20250724T142145Z
UID:586-1765004400-1765011600@the415arc.com
SUMMARY:December Ham Breakfast
DESCRIPTION:Please RSVP to nt9e@arrl.net so Dave can give Buddyz an accurate count.
URL:https://the415arc.com/events/december-ham-breakfast/
LOCATION:Buddyz – McHenry\, 1138 N Green St\, McHenry\, IL\, 60050\, United States
CATEGORIES:Breakfast
ATTACH;FMTTYPE=image/jpeg:https://the415arc.com/wp-content/uploads/2024/07/images.jpeg
ORGANIZER;CN="Dave Whaley - NT9E":MAILTO:NT9E@arrl.net
END:VEVENT
BEGIN:VEVENT
DTSTART;TZID=America/Chicago:20251101T070000
DTEND;TZID=America/Chicago:20251101T090000
DTSTAMP:20260423T113406
CREATED:20240802T141858Z
LAST-MODIFIED:20250724T142140Z
UID:585-1761980400-1761987600@the415arc.com
SUMMARY:November Ham Breakfast
DESCRIPTION:Please RSVP to nt9e@arrl.net so Dave can give Buddyz an accurate count.
URL:https://the415arc.com/events/november-ham-breakfast/
LOCATION:Buddyz – McHenry\, 1138 N Green St\, McHenry\, IL\, 60050\, United States
CATEGORIES:Breakfast
ATTACH;FMTTYPE=image/jpeg:https://the415arc.com/wp-content/uploads/2024/07/images.jpeg
ORGANIZER;CN="Dave Whaley - NT9E":MAILTO:NT9E@arrl.net
END:VEVENT
BEGIN:VEVENT
DTSTART;TZID=America/Chicago:20251004T070000
DTEND;TZID=America/Chicago:20251004T090000
DTSTAMP:20260423T113406
CREATED:20240802T141858Z
LAST-MODIFIED:20250724T142154Z
UID:584-1759561200-1759568400@the415arc.com
SUMMARY:October Ham Breakfast
DESCRIPTION:Please RSVP to nt9e@arrl.net so Dave can give Buddyz an accurate count.
URL:https://the415arc.com/events/october-ham-breakfast/
LOCATION:Buddyz – McHenry\, 1138 N Green St\, McHenry\, IL\, 60050\, United States
CATEGORIES:Breakfast
ATTACH;FMTTYPE=image/jpeg:https://the415arc.com/wp-content/uploads/2024/07/images.jpeg
ORGANIZER;CN="Dave Whaley - NT9E":MAILTO:NT9E@arrl.net
END:VEVENT
BEGIN:VEVENT
DTSTART;TZID=America/Chicago:20250906T070000
DTEND;TZID=America/Chicago:20250906T090000
DTSTAMP:20260423T113406
CREATED:20240802T141857Z
LAST-MODIFIED:20250724T142357Z
UID:583-1757142000-1757149200@the415arc.com
SUMMARY:September Ham Breakfast
DESCRIPTION:Please RSVP to nt9e@arrl.net so Dave can give Buddyz an accurate count.
URL:https://the415arc.com/events/september-ham-breakfast/
LOCATION:Buddyz – McHenry\, 1138 N Green St\, McHenry\, IL\, 60050\, United States
CATEGORIES:Breakfast
ATTACH;FMTTYPE=image/jpeg:https://the415arc.com/wp-content/uploads/2024/07/images.jpeg
ORGANIZER;CN="Dave Whaley - NT9E":MAILTO:NT9E@arrl.net
END:VEVENT
BEGIN:VEVENT
DTSTART;TZID=America/Chicago:20250802T070000
DTEND;TZID=America/Chicago:20250802T210000
DTSTAMP:20260423T113406
CREATED:20250724T142759Z
LAST-MODIFIED:20250724T143131Z
UID:3544-1754118000-1754168400@the415arc.com
SUMMARY:August Ham Breakfast
DESCRIPTION:Please RSVP to nt9e@arrl.net so Dave can give Buddyz an accurate count.
URL:https://the415arc.com/events/august-ham-breakfast/
LOCATION:Buddyz – McHenry\, 1138 N Green St\, McHenry\, IL\, 60050\, United States
ATTACH;FMTTYPE=image/jpeg:https://the415arc.com/wp-content/uploads/2024/07/images.jpeg
ORGANIZER;CN="Dave Whaley - NT9E":MAILTO:NT9E@arrl.net
END:VEVENT
BEGIN:VEVENT
DTSTART;TZID=America/Chicago:20250705T070000
DTEND;TZID=America/Chicago:20250705T090000
DTSTAMP:20260423T113406
CREATED:20250506T212218Z
LAST-MODIFIED:20250506T212537Z
UID:3379-1751698800-1751706000@the415arc.com
SUMMARY:July Ham Breakfast
DESCRIPTION:Ham Breakfast at Buddyz in Mchenry\, IL
URL:https://the415arc.com/events/july-ham-breakfast/
LOCATION:Buddyz – McHenry\, 1138 N Green St\, McHenry\, IL\, 60050\, United States
ATTACH;FMTTYPE=image/jpeg:https://the415arc.com/wp-content/uploads/2024/07/images.jpeg
ORGANIZER;CN="Dave Whaley - NT9E":MAILTO:NT9E@arrl.net
END:VEVENT
BEGIN:VEVENT
DTSTART;TZID=America/Chicago:20250607T070000
DTEND;TZID=America/Chicago:20250607T090000
DTSTAMP:20260423T113406
CREATED:20250101T140008Z
LAST-MODIFIED:20250506T212542Z
UID:2841-1749279600-1749286800@the415arc.com
SUMMARY:June Ham Breakfast
DESCRIPTION:Ham Breakfast at Buddyz in Mchenry\, IL
URL:https://the415arc.com/events/june-ham-breakfast/
LOCATION:Buddyz – McHenry\, 1138 N Green St\, McHenry\, IL\, 60050\, United States
CATEGORIES:Breakfast
ATTACH;FMTTYPE=image/jpeg:https://the415arc.com/wp-content/uploads/2024/07/images.jpeg
ORGANIZER;CN="Dave Whaley - NT9E":MAILTO:NT9E@arrl.net
END:VEVENT
END:VCALENDAR