BEGIN:VCALENDAR
VERSION:2.0
PRODID:-//The 415 Amateur Radio Club - ECPv6.15.20//NONSGML v1.0//EN
CALSCALE:GREGORIAN
METHOD:PUBLISH
X-ORIGINAL-URL:https://the415arc.com
X-WR-CALDESC:Events for The 415 Amateur Radio Club
REFRESH-INTERVAL;VALUE=DURATION:PT1H
X-Robots-Tag:noindex
X-PUBLISHED-TTL:PT1H
BEGIN:VTIMEZONE
TZID:America/Chicago
BEGIN:DAYLIGHT
TZOFFSETFROM:-0600
TZOFFSETTO:-0500
TZNAME:CDT
DTSTART:20250309T080000
END:DAYLIGHT
BEGIN:STANDARD
TZOFFSETFROM:-0500
TZOFFSETTO:-0600
TZNAME:CST
DTSTART:20251102T070000
END:STANDARD
BEGIN:DAYLIGHT
TZOFFSETFROM:-0600
TZOFFSETTO:-0500
TZNAME:CDT
DTSTART:20260308T080000
END:DAYLIGHT
BEGIN:STANDARD
TZOFFSETFROM:-0500
TZOFFSETTO:-0600
TZNAME:CST
DTSTART:20261101T070000
END:STANDARD
BEGIN:DAYLIGHT
TZOFFSETFROM:-0600
TZOFFSETTO:-0500
TZNAME:CDT
DTSTART:20270314T080000
END:DAYLIGHT
BEGIN:STANDARD
TZOFFSETFROM:-0500
TZOFFSETTO:-0600
TZNAME:CST
DTSTART:20271107T070000
END:STANDARD
END:VTIMEZONE
BEGIN:VEVENT
DTSTART;TZID=America/Chicago:20260307T080000
DTEND;TZID=America/Chicago:20260307T170000
DTSTAMP:20260423T130339
CREATED:20260122T180701Z
LAST-MODIFIED:20260122T180757Z
UID:3747-1772870400-1772902800@the415arc.com
SUMMARY:March HAM Breakfast
DESCRIPTION:Please RSVP to nt9e@arrl.net so Dave can give Buddyz an accurate count.
URL:https://the415arc.com/events/march-ham-breakfast/
LOCATION:Buddyz – McHenry\, 1138 N Green St\, McHenry\, IL\, 60050\, United States
ATTACH;FMTTYPE=image/jpeg:https://the415arc.com/wp-content/uploads/2024/11/202302-FEB-2023.jpg
ORGANIZER;CN="Dave Whaley - NT9E":MAILTO:NT9E@arrl.net
END:VEVENT
END:VCALENDAR